BEGIN:VCALENDAR
BEGIN:VEVENT
DESCRIPTION:Am 11. Juli 1990 begann die sogenannte Oka-Krise, die auch b
 ekannt geworden ist als “Kanesatake Resistance”. Die Stadt Oka, war 
 die erste einer breiten Medienöffentlichkeit bekannt gewordene Auseinan
 dersetzung von kanadischen Ureinwohnern mit der Regierung im 20. Jahrhun
 dert.\n\n\nDiese Auseinandersetzung begann mit einem Gerichtsurteil, das
  die Ausweitung eines Golfplatzes erlaubte. Einige Mohawk errichteten St
 raßensperren, um den Zugang zu diesem Gebiet zu blockieren. Eine gerich
 tliche Verfügung, die Sperre zu räumen, wurde ignoriert. Der Bürgerme
 ister verlange Erfüllung der Verfügung, und rief schließlich die Sûr
 eté du Québec (SQ), die mit einer Spezialeinheit, dem Emergency Respon
 se Team, anrückte.\n\n\nDie Mohawk errichteten ein Kommunikationsnetzwe
 rk mit Funkgeräten und Mobiltelefonen, das  Akwesasne, Kanesatake and K
 ahnawake verband.\n\n\nEine weitere Gruppe der Mohawk blockierte im weit
 ern Verlauf die Honoré-Mercier-Brücke, die über die St.-Lorenz-Wasser
 straße führt. Dies führte zu Konflikten mit den vielen Pendlern, die 
 diese Brücke regelmäßig befuhren.\n\n\nAm 8. August eskalierte die Si
 tuation, als Premierminister Robert Bourassa Unterstützung durch das Mi
 litär anforderte. Zur gleichen Zeit verlor die Sûreté anscheinend die
  Kontrolle, und die Royal Canadian Mounted Police (RCMP) rückte am 14. 
 August ein.\n\n\nAm 29. August begannen Verhandlungen, um die Krise zu l
 ösen. Am 26. September wurden die Barrikaden abgebaut, nachdem es am 25
 ., aus Verärgerung über den Verlust des Druckmittels, noch einmal zu H
 andgreiflichkeiten kam, die jedoch nicht erneut (weiter) eskalierten.\n\
 n\nDie Golfplatzvergrößerung wurde abgeblasen und das Gelände von der
  Regierung gekauft.\n
SUMMARY:Beginn der Oka-Krise
DTEND:20240711T235959
DTSTART:20240711T000000
UID:tiki-1-1243
END:VEVENT
END:VCALENDAR
